{
 "currentVersion": 10.22,
 "serviceDescription": "d",
 "mapName": "msipmo_PO",
 "description": "",
 "copyrightText": "",
 "supportsDynamicLayers": false,
 "layers": [
  {
   "id": 0,
   "name": "Granica gminy",
   "parentLayerId": -1,
   "defaultVisibility": true,
   "subLayerIds": null,
   "minScale": 0,
   "maxScale": 0
  },
  {
   "id": 1,
   "name": "Koleje",
   "parentLayerId": -1,
   "defaultVisibility": true,
   "subLayerIds": null,
   "minScale": 0,
   "maxScale": 0
  },
  {
   "id": 2,
   "name": "Ulice",
   "parentLayerId": -1,
   "defaultVisibility": true,
   "subLayerIds": null,
   "minScale": 0,
   "maxScale": 0
  },
  {
   "id": 3,
   "name": "Wody",
   "parentLayerId": -1,
   "defaultVisibility": true,
   "subLayerIds": null,
   "minScale": 0,
   "maxScale": 0
  },
  {
   "id": 4,
   "name": "Lasy",
   "parentLayerId": -1,
   "defaultVisibility": true,
   "subLayerIds": null,
   "minScale": 0,
   "maxScale": 0
  },
  {
   "id": 5,
   "name": "Drzewa( zgeneralizowana treść warstwy)",
   "parentLayerId": -1,
   "defaultVisibility": true,
   "subLayerIds": null,
   "minScale": 15999,
   "maxScale": 250
  },
  {
   "id": 6,
   "name": "Tereny zabudowane",
   "parentLayerId": -1,
   "defaultVisibility": true,
   "subLayerIds": null,
   "minScale": 0,
   "maxScale": 0
  },
  {
   "id": 7,
   "name": "Budynki",
   "parentLayerId": -1,
   "defaultVisibility": true,
   "subLayerIds": null,
   "minScale": 31999,
   "maxScale": 16000
  },
  {
   "id": 8,
   "name": "Budynki",
   "parentLayerId": -1,
   "defaultVisibility": true,
   "subLayerIds": null,
   "minScale": 15999,
   "maxScale": 250
  },
  {
   "id": 9,
   "name": "Cmentarze",
   "parentLayerId": -1,
   "defaultVisibility": true,
   "subLayerIds": null,
   "minScale": 31999,
   "maxScale": 250
  },
  {
   "id": 10,
   "name": "Ogrody działkowe",
   "parentLayerId": -1,
   "defaultVisibility": true,
   "subLayerIds": null,
   "minScale": 31999,
   "maxScale": 250
  },
  {
   "id": 11,
   "name": "Parki",
   "parentLayerId": -1,
   "defaultVisibility": true,
   "subLayerIds": null,
   "minScale": 31999,
   "maxScale": 250
  },
  {
   "id": 12,
   "name": "Wyróżnione obiekty",
   "parentLayerId": -1,
   "defaultVisibility": true,
   "subLayerIds": null,
   "minScale": 7999,
   "maxScale": 250
  }
 ],
 "tables": [],
 "spatialReference": {
  "wkid": 2178,
  "latestWkid": 2178
 },
 "singleFusedMapCache": true,
 "tileInfo": {
  "rows": 512,
  "cols": 512,
  "dpi": 96,
  "format": "JPEG",
  "compressionQuality": 85,
  "origin": {
   "x": 1877300,
   "y": 10001300
  },
  "spatialReference": {
   "wkid": 2178,
   "latestWkid": 2178
  },
  "lods": [
   {
    "level": 0,
    "resolution": 33.86673440013547,
    "scale": 128000
   },
   {
    "level": 1,
    "resolution": 16.933367200067735,
    "scale": 64000
   },
   {
    "level": 2,
    "resolution": 8.466683600033868,
    "scale": 32000
   },
   {
    "level": 3,
    "resolution": 4.233341800016934,
    "scale": 16000
   },
   {
    "level": 4,
    "resolution": 2.116670900008467,
    "scale": 8000
   },
   {
    "level": 5,
    "resolution": 1.0583354500042335,
    "scale": 4000
   },
   {
    "level": 6,
    "resolution": 0.5291677250021167,
    "scale": 2000
   },
   {
    "level": 7,
    "resolution": 0.26458386250105836,
    "scale": 1000
   },
   {
    "level": 8,
    "resolution": 0.13229193125052918,
    "scale": 500
   },
   {
    "level": 9,
    "resolution": 0.06614596562526459,
    "scale": 250
   }
  ]
 },
 "initialExtent": {
  "xmin": 7433617.59997745,
  "ymin": 5971957.0100553045,
  "xmax": 7497744.621848516,
  "ymax": 5977775.603252775,
  "spatialReference": {
   "wkid": 2178,
   "latestWkid": 2178
  }
 },
 "fullExtent": {
  "xmin": 7433897.180678456,
  "ymin": 5943231.534164635,
  "xmax": 7497465.0411475105,
  "ymax": 5977775.603252774,
  "spatialReference": {
   "wkid": 2178,
   "latestWkid": 2178
  }
 },
 "minScale": 128000,
 "maxScale": 250,
 "units": "esriMeters",
 "supportedImageFormatTypes": "PNG32,PNG24,PNG,JPG,DIB,TIFF,EMF,PS,PDF,GIF,SVG,SVGZ,BMP",
 "documentInfo": {
  "Title": "",
  "Author": "",
  "Comments": "",
  "Subject": "",
  "Category": "",
  "AntialiasingMode": "Best",
  "TextAntialiasingMode": "Force",
  "Keywords": "t"
 },
 "capabilities": "Map",
 "supportedQueryFormats": "JSON, AMF",
 "exportTilesAllowed": true,
 "maxExportTilesCount": 5000000,
 "maxRecordCount": 1000,
 "maxImageHeight": 8000,
 "maxImageWidth": 8000,
 "supportedExtensions": "WMSServer"
}
