{
 "currentVersion": 10.22,
 "serviceDescription": "",
 "mapName": "Layers",
 "description": "",
 "copyrightText": "",
 "supportsDynamicLayers": false,
 "layers": [
  {
   "id": 0,
   "name": "GEOPARD.studium",
   "parentLayerId": -1,
   "defaultVisibility": true,
   "subLayerIds": null,
   "minScale": 0,
   "maxScale": 5000
  }
 ],
 "tables": [],
 "spatialReference": {
  "wkid": 2178,
  "latestWkid": 2178
 },
 "singleFusedMapCache": true,
 "tileInfo": {
  "rows": 512,
  "cols": 512,
  "dpi": 96,
  "format": "JPEG",
  "compressionQuality": 75,
  "origin": {
   "x": 1877300,
   "y": 10001300
  },
  "spatialReference": {
   "wkid": 2178,
   "latestWkid": 2178
  },
  "lods": [
   {
    "level": 0,
    "resolution": 33.86673440013547,
    "scale": 128000
   },
   {
    "level": 1,
    "resolution": 16.933367200067735,
    "scale": 64000
   },
   {
    "level": 2,
    "resolution": 8.466683600033868,
    "scale": 32000
   },
   {
    "level": 3,
    "resolution": 4.233341800016934,
    "scale": 16000
   },
   {
    "level": 4,
    "resolution": 2.116670900008467,
    "scale": 8000
   }
  ]
 },
 "initialExtent": {
  "xmin": 7461451.408102369,
  "ymin": 5962559.075518284,
  "xmax": 7477749.774032434,
  "ymax": 5966866.500799801,
  "spatialReference": {
   "wkid": 2178,
   "latestWkid": 2178
  }
 },
 "fullExtent": {
  "xmin": 7456693.2502,
  "ymin": 5953112.5738,
  "xmax": 7477684.8799,
  "ymax": 5968137.7381,
  "spatialReference": {
   "wkid": 2178,
   "latestWkid": 2178
  }
 },
 "minScale": 128000,
 "maxScale": 8000,
 "units": "esriMeters",
 "supportedImageFormatTypes": "PNG32,PNG24,PNG,JPG,DIB,TIFF,EMF,PS,PDF,GIF,SVG,SVGZ,BMP",
 "documentInfo": {
  "Title": "msip_Studium",
  "Author": "amaslej",
  "Comments": "",
  "Subject": "",
  "Category": "",
  "AntialiasingMode": "Best",
  "TextAntialiasingMode": "Force",
  "Keywords": ""
 },
 "capabilities": "Map,Query,Data",
 "supportedQueryFormats": "JSON, AMF",
 "exportTilesAllowed": false,
 "maxRecordCount": 1000,
 "maxImageHeight": 8000,
 "maxImageWidth": 8000,
 "supportedExtensions": ""
}
